BEGIN:VCALENDAR
VERSION:2.0
PRODID:EVENTFROG//EVENT//ICAL
BEGIN:VEVENT
UID:20260420T074640Z-7447542622040647210@eventfrog.ch
DTSTAMP:20260420T074640Z
DTSTART:20260526T173000Z
DTEND:20260526T215900Z
SUMMARY:Karaoke
DESCRIPTION:Jeden Dienstag lädt Lady Hamilton’s Pub Zürich zur Karaoke Night ein - für alle, die ihre Lieblingssongs vor Publikum singen wollen.\n\nhttps://eventfrog.ch/de/p/partys/karaoke/karaoke-7447542622040647210.html
LOCATION:Lady Hamilton's Pub
GEO:47.375704;8.540026
URL:https://eventfrog.ch/de/p/partys/karaoke/karaoke-7447542622040647210.html
END:VEVENT
END:VCALENDAR