BEGIN:VCALENDAR
VERSION:2.0
PRODID:EVENTFROG//EVENT//ICAL
BEGIN:VEVENT
UID:20260425T004208Z-7447632978140749513@eventfrog.ch
DTSTAMP:20260425T004208Z
DTSTART:20260525T080000Z
DTEND:20260525T123000Z
SUMMARY:Porsche Pole Position Brunch
DESCRIPTION:Genießen Sie einen faszinierenden Ausblick auf die Porsche Rundstrecke und entdecken Sie die kulinarische „Erlebnisstrecke“ der Porsche Gastronomie.\n\nhttps://eventfrog.ch/de/p/essen-trinken/porsche-pole-position-brunch-7447632978140749513.html
LOCATION:Porsche Experience Center Leipzig
GEO:51.412098;12.295481
URL:https://eventfrog.ch/de/p/essen-trinken/porsche-pole-position-brunch-7447632978140749513.html
END:VEVENT
END:VCALENDAR