BEGIN:VCALENDAR
VERSION:2.0
PRODID:EVENTFROG//EVENT//ICAL
BEGIN:VEVENT
UID:20260424T030656Z-7447635183027652409@eventfrog.ch
DTSTAMP:20260424T030656Z
DTSTART:20260507T080000Z
DTEND:20260507T113000Z
SUMMARY:Porsche Carrera Lunch
DESCRIPTION:Exklusives 3-Gang Menü nach Porsche Art, inkl. Werksführung durch die Produktion der Modelle Macan und Panamera.\n\nhttps://eventfrog.ch/de/p/essen-trinken/porsche-carrera-lunch-7447635183027652409.html
LOCATION:Porsche Experience Center Leipzig
GEO:51.412098;12.295481
URL:https://eventfrog.ch/de/p/essen-trinken/porsche-carrera-lunch-7447635183027652409.html
END:VEVENT
END:VCALENDAR