BEGIN:VCALENDAR
VERSION:2.0
PRODID:EVENTFROG//EVENT//ICAL
BEGIN:VEVENT
UID:20260424T075616Z-7447761264808347355@eventfrog.ch
DTSTAMP:20260424T075616Z
DTSTART:20261004T081500Z
DTEND:20261004T090000Z
SUMMARY:Geschichten-Herbst - Theater Bilitz
DESCRIPTION:Geschichten-Herbst - Theater Bilitz\n\nhttps://eventfrog.ch/de/p/theater-buehne/geschichten-herbst-theater-bilitz-7447761264808347355.html
LOCATION:Theaterhaus Thurgau
GEO:47.567580;9.103460
URL:https://eventfrog.ch/de/p/theater-buehne/geschichten-herbst-theater-bilitz-7447761264808347355.html
END:VEVENT
END:VCALENDAR