BEGIN:VCALENDAR
VERSION:2.0
PRODID:EVENTFROG//EVENT//ICAL
BEGIN:VEVENT
UID:20260425T160822Z-7447937882398977502@eventfrog.ch
DTSTAMP:20260425T160822Z
DTSTART:20260426T080000Z
DTEND:20260426T110000Z
SUMMARY:Kurs „Veganes Frühlingsmenü – regional, frisch und lecker“
DESCRIPTION:Gemeinsam kochen Teilnehmende ein regionales, saisonales, rein pflanzliches Frühlingsmenü und geniessen es zusammen.\n\nhttps://eventfrog.ch/de/p/kurse-seminare/freizeit-hobby/kurs-veganes-fruehlingsmenue-regional-frisch-und-lecker-7447937882398977502.html
LOCATION:Volkskundliches Gerätemuseum
GEO:50.068216;12.151482
URL:https://eventfrog.ch/de/p/kurse-seminare/freizeit-hobby/kurs-veganes-fruehlingsmenue-regional-frisch-und-lecker-7447937882398977502.html
END:VEVENT
END:VCALENDAR