BEGIN:VCALENDAR
VERSION:2.0
PRODID:EVENTFROG//EVENT//ICAL
BEGIN:VEVENT
UID:20260425T142631Z-7448125186363116322@eventfrog.ch
DTSTAMP:20260425T142631Z
DTSTART:20260607T143000Z
SUMMARY:30 Jahre Chor und Orchester Universität Basel
DESCRIPTION:Das Jubiläumskonzert von Chor und Orchester der Uni Basel mit Werken von Mendelssohn, Elgar und Berlioz im Stadtcasino Basel.\n\nhttps://eventfrog.ch/de/p/klassik-opern/klassik/30-jahre-chor-und-orchester-universitaet-basel-7448125186363116322.html
LOCATION:Stadtcasino Basel
GEO:47.554116;7.590076
URL:https://eventfrog.ch/de/p/klassik-opern/klassik/30-jahre-chor-und-orchester-universitaet-basel-7448125186363116322.html
END:VEVENT
END:VCALENDAR