BEGIN:VCALENDAR
VERSION:2.0
PRODID:EVENTFROG//EVENT//ICAL
BEGIN:VEVENT
UID:20260425T021146Z-7448295240849462796@eventfrog.ch
DTSTAMP:20260425T021146Z
DTSTART:20260426T083000Z
DTEND:20260426T103000Z
SUMMARY:TOUCH MY SOUL – PATRIZIA CASAGRANDA
DESCRIPTION:Patrizia Casagranda präsentiert vom 19.4. bis 12.7.2026 Werke zu Empowerment und Diversity in einer vielschichtigen Ausstellung.\n\nhttps://eventfrog.ch/de/p/kunst-ausstellungen/ausstellung/touch-my-soul-patrizia-casagranda-7448295240849462796.html
LOCATION:Galerie Kley
GEO:51.654380;7.837530
URL:https://eventfrog.ch/de/p/kunst-ausstellungen/ausstellung/touch-my-soul-patrizia-casagranda-7448295240849462796.html
END:VEVENT
END:VCALENDAR