BEGIN:VCALENDAR
VERSION:2.0
PRODID:EVENTFROG//EVENT//ICAL
BEGIN:VEVENT
UID:20260419T184409Z-7448654406348731455@eventfrog.ch
DTSTAMP:20260419T184409Z
DTSTART:20260710T163000Z
SUMMARY:Yoga inmitten Alpakas
DESCRIPTION:Entspanne beim Outdoor Yoga auf der Weide inmitten Alpakas\n\n\nhttps://eventfrog.ch/de/p/sport-fitness/yoga/yoga-inmitten-alpakas-7448654406348731455.html
LOCATION:Gnöd 5 Alpaka Hof
GEO:47.345556;7.833477
URL:https://eventfrog.ch/de/p/sport-fitness/yoga/yoga-inmitten-alpakas-7448654406348731455.html
END:VEVENT
END:VCALENDAR