BEGIN:VCALENDAR
VERSION:2.0
PRODID:EVENTFROG//EVENT//ICAL
BEGIN:VEVENT
UID:20260425T123303Z-7448713060515087896@eventfrog.ch
DTSTAMP:20260425T123303Z
DTSTART:20260430T170000Z
DTEND:20260430T210000Z
SUMMARY:Me, myself & I - Coaching-Party 2026
DESCRIPTION:Ein einzigartiges Format in locker-spaßiger Atmosphäre, das inspirierende Begegnungen und neue Blickwinkel ermöglicht.\n\nhttps://eventfrog.ch/de/p/partys/sonstige-partys/me-myself-i-coaching-party-2026-7448713060515087896.html
LOCATION:Faecherpunkt
GEO:51.735360;9.021700
URL:https://eventfrog.ch/de/p/partys/sonstige-partys/me-myself-i-coaching-party-2026-7448713060515087896.html
END:VEVENT
END:VCALENDAR