BEGIN:VCALENDAR
VERSION:2.0
PRODID:EVENTFROG//EVENT//ICAL
BEGIN:VEVENT
UID:20260420T041008Z-7448853055448062560@eventfrog.ch
DTSTAMP:20260420T041008Z
DTSTART:20260512T173000Z
SUMMARY:Lesung mit Seraina Kobler - Tal der Schwalben
DESCRIPTION:Lesung mit Seraina Kobler - Tal der Schwalben\n\nhttps://eventfrog.ch/de/p/theater-buehne/lesung-mit-seraina-kobler-tal-der-schwalben-7448853055448062560.html
LOCATION:Bodan AG Buchhandlung
GEO:47.650722;9.174825
URL:https://eventfrog.ch/de/p/theater-buehne/lesung-mit-seraina-kobler-tal-der-schwalben-7448853055448062560.html
END:VEVENT
END:VCALENDAR