BEGIN:VCALENDAR
VERSION:2.0
PRODID:EVENTFROG//EVENT//ICAL
BEGIN:VEVENT
UID:20260420T071520Z-7449078371928032331@eventfrog.ch
DTSTAMP:20260420T071520Z
DTSTART:20260501T190000Z
DTEND:20260502T000000Z
SUMMARY:Throwback Friday 2000s mit DJ Ralf
DESCRIPTION:Throwback Friday 2000s: DJ Ralf mixt genreübergreifend Rock, HipHop, Pop und mehr zu einem vielseitigen Clubabend ohne Nostalgie.\n\nhttps://eventfrog.ch/de/p/partys/pop-rock/throwback-friday-2000s-mit-dj-ralf-7449078371928032331.html
LOCATION:Belinda Discothek
GEO:49.004142;9.496766
URL:https://eventfrog.ch/de/p/partys/pop-rock/throwback-friday-2000s-mit-dj-ralf-7449078371928032331.html
END:VEVENT
END:VCALENDAR