BEGIN:VCALENDAR
VERSION:2.0
PRODID:EVENTFROG//EVENT//ICAL
BEGIN:VEVENT
UID:20260425T135334Z-7449460745119498030@eventfrog.ch
DTSTAMP:20260425T135334Z
DTSTART:20261003T173000Z
DTEND:20261003T200000Z
SUMMARY:Gestern war der Ball - Putensen Beat Ensemble
DESCRIPTION:Thomas Putensen und sein Beatensemble spielen lebendige Krug/Fischer Songs der 70er Jahre und laden zum Mitsingen ein.\n\nhttps://eventfrog.ch/de/p/konzerte/pop-rock/gestern-war-der-ball-putensen-beat-ensemble-7449460745119498030.html
LOCATION:Theater Ost
GEO:52.433614;13.539208
URL:https://eventfrog.ch/de/p/konzerte/pop-rock/gestern-war-der-ball-putensen-beat-ensemble-7449460745119498030.html
END:VEVENT
END:VCALENDAR