BEGIN:VCALENDAR
VERSION:2.0
PRODID:EVENTFROG//EVENT//ICAL
BEGIN:VEVENT
UID:20260424T075634Z-7449508105459658149@eventfrog.ch
DTSTAMP:20260424T075634Z
DTSTART:20260609T173000Z
DTEND:20260609T193000Z
SUMMARY:9 JUN: Mike Casa Stand-up Comedy Show ZURICH!
DESCRIPTION:After 21 sold-out shows only last year, Mike Casa will stand on the stage of SOHO for more comedy (ENGLISH)!\n\nhttps://eventfrog.ch/de/p/theater-buehne/comedy-kabarett/9-jun-mike-casa-stand-up-comedy-show-zurich-7449508105459658149.html
LOCATION:SOHO ZURICH
GEO:47.388527;8.520734
URL:https://eventfrog.ch/de/p/theater-buehne/comedy-kabarett/9-jun-mike-casa-stand-up-comedy-show-zurich-7449508105459658149.html
END:VEVENT
END:VCALENDAR