BEGIN:VCALENDAR
VERSION:2.0
PRODID:EVENTFROG//EVENT//ICAL
BEGIN:VEVENT
UID:20260419T180307Z-7449522378680367791@eventfrog.ch
DTSTAMP:20260419T180307Z
DTSTART:20260913T170000Z
DTEND:20260913T200000Z
SUMMARY:Saloppe SalsaTanzAbend - Salsa, Rueda, Bachata, Kizomba
DESCRIPTION:Getanzt wird u.a. Salsa, Rueda, Bachata oder Kizomba. Die Veranstaltung findet auf der Terrasse bzw. im Tanzraum statt.\n\nhttps://eventfrog.ch/de/p/partys/swing/saloppe-salsatanzabend-salsa-rueda-bachata-kizomba-7449522378680367791.html
LOCATION:Saloppe Sommerwirtschaft
GEO:51.065420;13.790710
URL:https://eventfrog.ch/de/p/partys/swing/saloppe-salsatanzabend-salsa-rueda-bachata-kizomba-7449522378680367791.html
END:VEVENT
END:VCALENDAR