BEGIN:VCALENDAR
VERSION:2.0
PRODID:EVENTFROG//EVENT//ICAL
BEGIN:VEVENT
UID:20260420T041001Z-7449702574247137290@eventfrog.ch
DTSTAMP:20260420T041001Z
DTSTART:20260907T070000Z
DTEND:20260907T140000Z
SUMMARY:Kurs Notfälle bei Senioren
DESCRIPTION:Für alle, die im Ernstfall wissen möchten, was zu tun ist.\n\nhttps://eventfrog.ch/de/p/gesundheit-spiritualitaet/gesundheit-wohlbefinden/kurs-notfaelle-bei-senioren-7449702574247137290.html
LOCATION:Schweizerisches Rotes Kreuz (SRK) Kanton Bern, Region Oberaargau
GEO:47.226681;7.786010
URL:https://eventfrog.ch/de/p/gesundheit-spiritualitaet/gesundheit-wohlbefinden/kurs-notfaelle-bei-senioren-7449702574247137290.html
END:VEVENT
END:VCALENDAR