BEGIN:VCALENDAR
VERSION:2.0
PRODID:EVENTFROG//EVENT//ICAL
BEGIN:VEVENT
UID:20260419T181206Z-7449718587562965250@eventfrog.ch
DTSTAMP:20260419T181206Z
DTSTART:20260621T120000Z
DTEND:20260621T140000Z
SUMMARY:»Operation Gomorrha« und die Architektur des Krieges
DESCRIPTION:Die Stadtführung «Operation Gomorrha» zeigt Eimsbüttels Zerstörung im Luftkrieg und den anschliessenden Wiederaufbau.\n\nhttps://eventfrog.ch/de/p/fuehrungen-vortraege/stadtfuehrung/operation-gomorrha-und-die-architektur-des-krieges-7449718587562965250.html
LOCATION:Alsenplatz
GEO:53.566508;9.951814
URL:https://eventfrog.ch/de/p/fuehrungen-vortraege/stadtfuehrung/operation-gomorrha-und-die-architektur-des-krieges-7449718587562965250.html
END:VEVENT
END:VCALENDAR