BEGIN:VCALENDAR
VERSION:2.0
PRODID:EVENTFROG//EVENT//ICAL
BEGIN:VEVENT
UID:20260425T170231Z-7449777335438444183@eventfrog.ch
DTSTAMP:20260425T170231Z
DTSTART:20260426T090000Z
DTEND:20260426T130000Z
SUMMARY:Säntis-Ustrinkete
DESCRIPTION:Gemeinsam zelebrieren wir die letzten Tage vor dem Bahnunterbruch und verabschieden uns feierlich von unserer alten, ehrwürdigen Bahn.\n\n\nhttps://eventfrog.ch/de/p/diverses/saentis-ustrinkete-7449777335438444183.html
LOCATION:Restaurant Säntisgipfel
GEO:47.257550;9.309121
URL:https://eventfrog.ch/de/p/diverses/saentis-ustrinkete-7449777335438444183.html
END:VEVENT
END:VCALENDAR