BEGIN:VCALENDAR
VERSION:2.0
PRODID:EVENTFROG//EVENT//ICAL
BEGIN:VEVENT
UID:20260424T082957Z-7449877868501309431@eventfrog.ch
DTSTAMP:20260424T082957Z
DTSTART:20260523T110000Z
DTEND:20260523T140000Z
SUMMARY:Austausch für Eltern und Angehörige zum Thema Essstörungen
DESCRIPTION:Einmal im Monat treffen sich Angehörige von Essstörung-Betroffenen in Winterthur zum vertraulichen Austausch mit Peer-Expertinnen.\n\nhttps://eventfrog.ch/de/p/gesundheit-spiritualitaet/gesundheit-wohlbefinden/austausch-fuer-eltern-und-angehoerige-zum-thema-essstoerungen-7449877868501309431.html
LOCATION:Stiftung Windlicht
GEO:47.500218;8.732858
URL:https://eventfrog.ch/de/p/gesundheit-spiritualitaet/gesundheit-wohlbefinden/austausch-fuer-eltern-und-angehoerige-zum-thema-essstoerungen-7449877868501309431.html
END:VEVENT
END:VCALENDAR