BEGIN:VCALENDAR
VERSION:2.0
PRODID:EVENTFROG//EVENT//ICAL
BEGIN:VEVENT
UID:20260424T063601Z-7449882383849941975@eventfrog.ch
DTSTAMP:20260424T063601Z
DTSTART:20260516T200000Z
DTEND:20260517T020000Z
SUMMARY:SOUND BWOY Girl At Parterre One
DESCRIPTION:For this edition, Lagwada and Miss LRA take over the line-up.\n\nhttps://eventfrog.ch/en/p/parties/dancehall/sound-bwoy-girl-at-parterre-one-7449882383849941975.html
LOCATION:Parterre One
GEO:47.563800;7.591130
URL:https://eventfrog.ch/en/p/parties/dancehall/sound-bwoy-girl-at-parterre-one-7449882383849941975.html
END:VEVENT
END:VCALENDAR