BEGIN:VCALENDAR
VERSION:2.0
PRODID:EVENTFROG//EVENT//ICAL
BEGIN:VEVENT
UID:20260425T135316Z-7449890792020159985@eventfrog.ch
DTSTAMP:20260425T135316Z
DTSTART:20260604T180000Z
DTEND:20260604T200000Z
SUMMARY:The Smash - English Flavoured Contemporary Beat Music
DESCRIPTION:In der jetztigen Formation erinnern sie an die Mod-Music von Bands wie The Jam\n\nhttps://eventfrog.ch/de/p/konzerte/pop-rock/the-smash-english-flavoured-contemporary-beat-music-7449890792020159985.html
LOCATION:ART Stalker - Kunst + Bar + Events
GEO:52.509270;13.302320
URL:https://eventfrog.ch/de/p/konzerte/pop-rock/the-smash-english-flavoured-contemporary-beat-music-7449890792020159985.html
END:VEVENT
END:VCALENDAR