BEGIN:VCALENDAR
VERSION:2.0
PRODID:EVENTFROG//EVENT//ICAL
BEGIN:VEVENT
UID:20260424T163903Z-7449949119647348624@eventfrog.ch
DTSTAMP:20260424T163903Z
DTSTART:20261209T170000Z
DTEND:20261210T010000Z
SUMMARY:Gastro Appenzellerland Mitarbeiterparty
DESCRIPTION:Für Gastronomie-Mitarbeitende gibt es eine Dankeschön-Party mit Essen und Getränken inklusive - ein abwechslungsreicher Abend für alle.\n\nhttps://eventfrog.ch/de/p/partys/mottoparty/gastro-appenzellerland-mitarbeiterparty-7449949119647348624.html
LOCATION:Aula Gringel Appenzell
GEO:47.326680;9.412890
URL:https://eventfrog.ch/de/p/partys/mottoparty/gastro-appenzellerland-mitarbeiterparty-7449949119647348624.html
END:VEVENT
END:VCALENDAR