BEGIN:VCALENDAR
VERSION:2.0
PRODID:EVENTFROG//EVENT//ICAL
BEGIN:VEVENT
UID:20260419T140817Z-7450100361686207167@eventfrog.ch
DTSTAMP:20260419T140817Z
DTSTART:20260502T200000Z
DTEND:20260503T030000Z
SUMMARY:HYPE 2010er Party - ü16 - SA 02.05.26
DESCRIPTION:«HYPE - 2010er Party» im Klub Klain bringt ab 22 Uhr die grössten Hits der 2010er Jahre,  für alle ab 16 Jahren.\n\nhttps://eventfrog.ch/de/p/partys/charts-open-format/hype-2010er-party-ue16-sa-02-05-26-7450100361686207167.html
LOCATION:Klub Klain
GEO:47.425054;9.372084
URL:https://eventfrog.ch/de/p/partys/charts-open-format/hype-2010er-party-ue16-sa-02-05-26-7450100361686207167.html
END:VEVENT
END:VCALENDAR