BEGIN:VCALENDAR
VERSION:2.0
PRODID:EVENTFROG//EVENT//ICAL
BEGIN:VEVENT
UID:20260420T043212Z-7450127114349636941@eventfrog.ch
DTSTAMP:20260420T043212Z
DTSTART:20260503T080000Z
DTEND:20260503T140000Z
SUMMARY:Tag der offenen Tür Diakoniestation Schwabstedt-Ostenfeld
DESCRIPTION:Am 3. Mai findet in Winnert von 10 bis 16 Uhr ein Tag der offenen Tür mit Essen und Beratungsangeboten statt.\n\nhttps://eventfrog.ch/de/p/freizeit-ausfluege/tag-der-offenen-tuer/tag-der-offenen-tuer-diakoniestation-schwabstedt-ostenfeld-7450127114349636941.html
LOCATION:Diakoniestation Schwabstedt-Ostenfeld
GEO:54.433394;9.207037
URL:https://eventfrog.ch/de/p/freizeit-ausfluege/tag-der-offenen-tuer/tag-der-offenen-tuer-diakoniestation-schwabstedt-ostenfeld-7450127114349636941.html
END:VEVENT
END:VCALENDAR