BEGIN:VCALENDAR
VERSION:2.0
PRODID:EVENTFROG//EVENT//ICAL
BEGIN:VEVENT
UID:20260420T072738Z-7450169227355366832@eventfrog.ch
DTSTAMP:20260420T072738Z
DTSTART:20260501T180000Z
SUMMARY:Aperol Freitag
DESCRIPTION:Beliebte Aperol Veranstaltung mit Happy Hour Specials, erweiterter Getränkeauswahl und Glen für Partystimmung. Eintritt frei bis 22 Uhr.\n\nhttps://eventfrog.ch/de/p/partys/pop-rock/aperol-freitag-7450169227355366832.html
LOCATION:Industriehof Schenke - Walzensaal
GEO:49.327717;8.448600
URL:https://eventfrog.ch/de/p/partys/pop-rock/aperol-freitag-7450169227355366832.html
END:VEVENT
END:VCALENDAR