BEGIN:VCALENDAR
VERSION:2.0
PRODID:EVENTFROG//EVENT//ICAL
BEGIN:VEVENT
UID:20260419T191730Z-7450301464667234855@eventfrog.ch
DTSTAMP:20260419T191730Z
DTSTART:20260516T180000Z
SUMMARY:Shelter
DESCRIPTION:Thriller mit Jason Statham.\n\nhttps://eventfrog.ch/de/p/freizeit-ausfluege/shelter-7450301464667234855.html
LOCATION:Kino Rosental
GEO:47.442578;9.533443
URL:https://eventfrog.ch/de/p/freizeit-ausfluege/shelter-7450301464667234855.html
END:VEVENT
END:VCALENDAR