BEGIN:VCALENDAR
VERSION:2.0
PRODID:EVENTFROG//EVENT//ICAL
BEGIN:VEVENT
UID:20260419T191817Z-7450301465287991854@eventfrog.ch
DTSTAMP:20260419T191817Z
DTSTART:20260513T130000Z
SUMMARY:Jazzy – Chaos im Regenwald
DESCRIPTION:Animation von Tim Harper.\n\nhttps://eventfrog.ch/de/p/freizeit-ausfluege/jazzy-chaos-im-regenwald-7450301465287991854.html
LOCATION:Kino Rosental
GEO:47.442578;9.533443
URL:https://eventfrog.ch/de/p/freizeit-ausfluege/jazzy-chaos-im-regenwald-7450301465287991854.html
END:VEVENT
END:VCALENDAR