BEGIN:VCALENDAR
VERSION:2.0
PRODID:EVENTFROG//EVENT//ICAL
BEGIN:VEVENT
UID:20260424T051553Z-7450303518156557980@eventfrog.ch
DTSTAMP:20260424T051553Z
DTSTART:20260518T173000Z
SUMMARY:Haimos
DESCRIPTION:Haimos\n\nhttps://eventfrog.ch/de/p/konzerte/haimos-7450303518156557980.html
LOCATION:Portier
GEO:47.495799;8.718806
URL:https://eventfrog.ch/de/p/konzerte/haimos-7450303518156557980.html
END:VEVENT
END:VCALENDAR