BEGIN:VCALENDAR
VERSION:2.0
PRODID:EVENTFROG//EVENT//ICAL
BEGIN:VEVENT
UID:20260419T144415Z-7450441051729336772@eventfrog.ch
DTSTAMP:20260419T144415Z
DTSTART:20280624T080000Z
SUMMARY:Fahrradfest Waldenau und Familienfest
DESCRIPTION:Touren: Start ab 10:00 Uhr\nFam.-Fest: Ab 12:00 Uhr\n\nhttps://eventfrog.ch/de/p/freizeit-ausfluege/buergertreffen/fahrradfest-waldenau-und-familienfest-7450441051729336772.html
LOCATION:Vereinshaus "Alte Datumer Schule"
GEO:53.621467;9.798786
URL:https://eventfrog.ch/de/p/freizeit-ausfluege/buergertreffen/fahrradfest-waldenau-und-familienfest-7450441051729336772.html
END:VEVENT
END:VCALENDAR