BEGIN:VCALENDAR
VERSION:2.0
PRODID:EVENTFROG//EVENT//ICAL
BEGIN:VEVENT
UID:20260419T144525Z-7450512626415590954@eventfrog.ch
DTSTAMP:20260419T144525Z
DTSTART:20260425T160000Z
DTEND:20260425T173000Z
SUMMARY:AmadeusChor - Giganten - Gustav Mahler + Anton Bruckner
DESCRIPTION:Der AmadeusChor singt Mahler- und Brucknerwerke a cappella, begleitet von Martina Trump mit Solostücken von Bach und Ysaÿe.\n\nhttps://eventfrog.ch/de/p/konzerte/chor/amadeuschor-giganten-gustav-mahler-anton-bruckner-7450512626415590954.html
LOCATION:Heilig-Kreuz-Kirche - Evangelisch-Lutherische Kirchengemeinde Röthenbach a.d. Pegnitz
GEO:49.481158;11.234094
URL:https://eventfrog.ch/de/p/konzerte/chor/amadeuschor-giganten-gustav-mahler-anton-bruckner-7450512626415590954.html
END:VEVENT
END:VCALENDAR