BEGIN:VCALENDAR
VERSION:2.0
PRODID:EVENTFROG//EVENT//ICAL
BEGIN:VEVENT
UID:20260420T013428Z-7450538595763376085@eventfrog.ch
DTSTAMP:20260420T013428Z
DTSTART:20260718T160000Z
DTEND:20260719T040000Z
SUMMARY:Sommerpsy 5
DESCRIPTION:Sommerpsy Vol. 5 feiert Jubiläum in Embrach mit Psytrance, feinem Food, Drinks und Chillout von 18 bis 6 Uhr.\n\nhttps://eventfrog.ch/en/p/parties/goa/sommerpsy-5-7450538595763376085.html
LOCATION:Waldhütte Warpel
GEO:47.500281;8.614775
URL:https://eventfrog.ch/en/p/parties/goa/sommerpsy-5-7450538595763376085.html
END:VEVENT
END:VCALENDAR