BEGIN:VCALENDAR
VERSION:2.0
PRODID:EVENTFROG//EVENT//ICAL
BEGIN:VEVENT
UID:20260419T175500Z-7450539459802600592@eventfrog.ch
DTSTAMP:20260419T175500Z
DTSTART:20260722T083000Z
SUMMARY:Der Zauberer von Oz
DESCRIPTION:Der berühmte Kinderbuchklassiker hat in seiner 125-jährigen Geschichte die Kinoleinwände und auch die Theaterbühnen der Welt erobert.\n\nhttps://eventfrog.ch/de/p/theater-buehne/theater/der-zauberer-von-oz-7450539459802600592.html
LOCATION:Theater Schloss Maßbach - Unterfränkische Landesbühne
GEO:50.181256;10.281103
URL:https://eventfrog.ch/de/p/theater-buehne/theater/der-zauberer-von-oz-7450539459802600592.html
END:VEVENT
END:VCALENDAR