BEGIN:VCALENDAR
VERSION:2.0
PRODID:EVENTFROG//EVENT//ICAL
BEGIN:VEVENT
UID:20260425T004216Z-7450547768840451892@eventfrog.ch
DTSTAMP:20260425T004216Z
DTSTART:20260425T120000Z
DTEND:20260425T140000Z
SUMMARY:Eskalation am Gipstisch
DESCRIPTION:Corina Strauss lädt am 25.04. im PopUp Rothenburg zu einem kreativen Gips-Workshop mit 1 kg Giesspulver, Willkommensdrink, Schoko-Erdbeeren und Profi-Tipps ein.\n\nhttps://eventfrog.ch/de/p/kurse-seminare/freizeit-hobby/eskalation-am-gipstisch-7450547768840451892.html
LOCATION:PopUp Rothenburg
GEO:49.376997;10.181348
URL:https://eventfrog.ch/de/p/kurse-seminare/freizeit-hobby/eskalation-am-gipstisch-7450547768840451892.html
END:VEVENT
END:VCALENDAR