BEGIN:VCALENDAR
VERSION:2.0
PRODID:EVENTFROG//EVENT//ICAL
BEGIN:VEVENT
UID:20260419T140815Z-7450656152918958651@eventfrog.ch
DTSTAMP:20260419T140815Z
DTSTART:20260503T070000Z
DTEND:20260503T093000Z
SUMMARY:Dättwiler Landfrauen-Zmorge
DESCRIPTION:Die Dättwiler Landfrauen laden zum traditionellen Landfrauen-Zmorge ein.\nDer gesamte Erlös geht an insieme Region Baden-Wettingen. \nAnmeldung bei Karin Roth: +41 76 344 50 85 oder karoth60@gmail.com \n\nhttps://eventfrog.ch/de/p/essen-trinken/daettwiler-landfrauen-zmorge-7450656152918958651.html
LOCATION:Aula Höchi (Schule)
GEO:47.453663;8.283996
URL:https://eventfrog.ch/de/p/essen-trinken/daettwiler-landfrauen-zmorge-7450656152918958651.html
END:VEVENT
END:VCALENDAR