BEGIN:VCALENDAR
VERSION:2.0
PRODID:EVENTFROG//EVENT//ICAL
BEGIN:VEVENT
UID:20260424T075645Z-7450667514537726109@eventfrog.ch
DTSTAMP:20260424T075645Z
DTSTART:20260501T070000Z
DTEND:20260501T200000Z
SUMMARY:Frühlingsfest
DESCRIPTION:JEANSWERK FRÜHLINGSFEST - Am 1. Mai, von 17:00-22:00 Uhr\n\nhttps://eventfrog.ch/de/p/diverses/fruehlingsfest-7450667514537726109.html
LOCATION:Jeanswerk
GEO:47.425052;9.375123
URL:https://eventfrog.ch/de/p/diverses/fruehlingsfest-7450667514537726109.html
END:VEVENT
END:VCALENDAR