BEGIN:VCALENDAR
VERSION:2.0
PRODID:EVENTFROG//EVENT//ICAL
BEGIN:VEVENT
UID:20260419T164622Z-7450780214886461186@eventfrog.ch
DTSTAMP:20260419T164622Z
DTSTART:20260509T080000Z
DTEND:20260509T140000Z
SUMMARY:Streethockey U15-Finalturnier
DESCRIPTION:Wer kürt sich zum Schweizermeister?  \n\nhttps://eventfrog.ch/de/p/freizeit-ausfluege/sonstige-veranstaltungen/streethockey-u15-finalturnier-7450780214886461186.html
LOCATION:Strassenhockeyclub Bettlach
GEO:47.192570;7.418181
URL:https://eventfrog.ch/de/p/freizeit-ausfluege/sonstige-veranstaltungen/streethockey-u15-finalturnier-7450780214886461186.html
END:VEVENT
END:VCALENDAR