BEGIN:VCALENDAR
VERSION:2.0
PRODID:EVENTFROG//EVENT//ICAL
BEGIN:VEVENT
UID:20260425T124814Z-7450806525990295603@eventfrog.ch
DTSTAMP:20260425T124814Z
DTSTART:20260829T110000Z
DTEND:20260829T200000Z
SUMMARY:Jubla Day-Dance
DESCRIPTION:Komm vorbei und feier mit uns den Tag, als wäre es ein Traum – Jubla Day Dance: Pyjama Party – gemeinsam Spass haben, tanzen und Erinnerungen schaffen! \n\nhttps://eventfrog.ch/de/p/partys/mottoparty/jubla-day-dance-7450806525990295603.html
LOCATION:Container 13
GEO:47.058726;8.285190
URL:https://eventfrog.ch/de/p/partys/mottoparty/jubla-day-dance-7450806525990295603.html
END:VEVENT
END:VCALENDAR