BEGIN:VCALENDAR
VERSION:2.0
PRODID:EVENTFROG//EVENT//ICAL
BEGIN:VEVENT
UID:20260419T191731Z-7450884064679055084@eventfrog.ch
DTSTAMP:20260419T191731Z
DTSTART:20260722T161500Z
DTEND:20260722T204500Z
SUMMARY:Lindau by night
DESCRIPTION:Geniessen Sie eine Hin- und Rückfahrt zu einem gemütlichen Aufenthalt im mittelalterlich geprägten Städtchen.\n\nhttps://eventfrog.ch/de/p/freizeit-ausfluege/ausfahrt/lindau-by-night-7450884064679055084.html
LOCATION:Rorschach Hafen
GEO:47.478652;9.493739
URL:https://eventfrog.ch/de/p/freizeit-ausfluege/ausfahrt/lindau-by-night-7450884064679055084.html
END:VEVENT
END:VCALENDAR