BEGIN:VCALENDAR
VERSION:2.0
PRODID:EVENTFROG//EVENT//ICAL
BEGIN:VEVENT
UID:20260419T173858Z-7450902505213405463@eventfrog.ch
DTSTAMP:20260419T173858Z
DTSTART:20260508T173000Z
DTEND:20260508T193000Z
SUMMARY:Glänzende Marschmusik
DESCRIPTION:Die Swiss Armed Forces Central Band und das Swiss Armed Forces Drum Corps begeistern mit glänzender Marschmusik.\n\nhttps://eventfrog.ch/de/p/konzerte/blasmusik/glaenzende-marschmusik-7450902505213405463.html
LOCATION:Lintharena
GEO:47.108094;9.065551
URL:https://eventfrog.ch/de/p/konzerte/blasmusik/glaenzende-marschmusik-7450902505213405463.html
END:VEVENT
END:VCALENDAR