BEGIN:VCALENDAR
VERSION:2.0
PRODID:EVENTFROG//EVENT//ICAL
BEGIN:VEVENT
UID:20260419T205715Z-7450913858930091020@eventfrog.ch
DTSTAMP:20260419T205715Z
DTSTART:20260530T163000Z
DTEND:20260530T200000Z
SUMMARY:Musikvermittlung bei Einzig ond dr Andr
DESCRIPTION:Junge Menschen erleben mit «Einzig und dr Andr» Probe und Konzert, erfahren Hintergründe zur Bühnenerfahrung und Bandvorbereitung.\n\nhttps://eventfrog.ch/de/p/diverses/musikvermittlung-bei-einzig-ond-dr-andr-7450913858930091020.html
LOCATION:Bürgersaal
GEO:47.120579;7.991150
URL:https://eventfrog.ch/de/p/diverses/musikvermittlung-bei-einzig-ond-dr-andr-7450913858930091020.html
END:VEVENT
END:VCALENDAR