BEGIN:VCALENDAR
VERSION:2.0
PRODID:EVENTFROG//EVENT//ICAL
BEGIN:VEVENT
UID:20260424T070912Z-7451027450744537824@eventfrog.ch
DTSTAMP:20260424T070912Z
DTSTART:20260430T180000Z
DTEND:20260430T230000Z
SUMMARY:Avon (USA) + Boost Banner (DE)
DESCRIPTION:Avon (USA) + Boost Banner (DE)\n\nhttps://eventfrog.ch/de/p/konzerte/avon-usa-boost-banner-de-7451027450744537824.html
LOCATION:Horstklub
GEO:47.647355;9.173559
URL:https://eventfrog.ch/de/p/konzerte/avon-usa-boost-banner-de-7451027450744537824.html
END:VEVENT
END:VCALENDAR