BEGIN:VCALENDAR
VERSION:2.0
PRODID:EVENTFROG//EVENT//ICAL
BEGIN:VEVENT
UID:20260419T173859Z-7451027854429558967@eventfrog.ch
DTSTAMP:20260419T173859Z
DTSTART:20260525T113000Z
DTEND:20260525T160000Z
SUMMARY:Wechselausstellung - Gesicht zeigen
DESCRIPTION:Wechselausstellung - Gesicht zeigen\n\nhttps://eventfrog.ch/de/p/wissenschaft-und-technik/wechselausstellung-gesicht-zeigen-7451027854429558967.html
LOCATION:Anna Göldi Museum
GEO:47.037301;9.075172
URL:https://eventfrog.ch/de/p/wissenschaft-und-technik/wechselausstellung-gesicht-zeigen-7451027854429558967.html
END:VEVENT
END:VCALENDAR