BEGIN:VCALENDAR
VERSION:2.0
PRODID:EVENTFROG//EVENT//ICAL
BEGIN:VEVENT
UID:20260425T180014Z-7451029338437240186@eventfrog.ch
DTSTAMP:20260425T180014Z
DTSTART:20260524T161500Z
SUMMARY:Lohr
DESCRIPTION:Lohr\n\nhttps://eventfrog.ch/de/p/konzerte/lohr-7451029338437240186.html
LOCATION:Konstanz Konzertmuschel
GEO:47.662669;9.179241
URL:https://eventfrog.ch/de/p/konzerte/lohr-7451029338437240186.html
END:VEVENT
END:VCALENDAR