BEGIN:VCALENDAR
VERSION:2.0
PRODID:EVENTFROG//EVENT//ICAL
BEGIN:VEVENT
UID:20260425T180014Z-7451029338613400979@eventfrog.ch
DTSTAMP:20260425T180014Z
DTSTART:20260524T173000Z
SUMMARY:Loma Reqs
DESCRIPTION:Loma Reqs\n\nhttps://eventfrog.ch/de/p/konzerte/loma-reqs-7451029338613400979.html
LOCATION:Konstanz Konzertmuschel
GEO:47.662669;9.179241
URL:https://eventfrog.ch/de/p/konzerte/loma-reqs-7451029338613400979.html
END:VEVENT
END:VCALENDAR