BEGIN:VCALENDAR
VERSION:2.0
PRODID:EVENTFROG//EVENT//ICAL
BEGIN:VEVENT
UID:20260419T221417Z-7451032738201646910@eventfrog.ch
DTSTAMP:20260419T221417Z
DTSTART:20260508T220000Z
DTEND:20260606T215900Z
SUMMARY:zusammen unterwegs
DESCRIPTION:Sechs Mal Vielseitigkeit in Ausdruck, Farbe und Form.\n\nhttps://eventfrog.ch/de/p/kunst-ausstellungen/zusammen-unterwegs-7451032738201646910.html
LOCATION:Galerie L33 Kunst & Einrahmungen
GEO:47.169445;9.459113
URL:https://eventfrog.ch/de/p/kunst-ausstellungen/zusammen-unterwegs-7451032738201646910.html
END:VEVENT
END:VCALENDAR