BEGIN:VCALENDAR
VERSION:2.0
PRODID:EVENTFROG//EVENT//ICAL
BEGIN:VEVENT
UID:20260424T081259Z-7451033829899295655@eventfrog.ch
DTSTAMP:20260424T081259Z
DTSTART:20260529T183000Z
DTEND:20260529T203000Z
SUMMARY:Andrea Bignasca
DESCRIPTION:Der Tessiner Andrea Bignasca begeistert mit seiner charismatischen Stimme, seiner spürbaren Leidenschaft für die Musik und seinen tollen Songs immer wieder aufs Neue. \n\nhttps://eventfrog.ch/de/p/konzerte/pop-rock/andrea-bignasca-7451033829899295655.html
LOCATION:Bären Buchsi
GEO:47.021500;7.450800
URL:https://eventfrog.ch/de/p/konzerte/pop-rock/andrea-bignasca-7451033829899295655.html
END:VEVENT
END:VCALENDAR