BEGIN:VCALENDAR
VERSION:2.0
PRODID:EVENTFROG//EVENT//ICAL
BEGIN:VEVENT
UID:20260419T164621Z-7451135214804321985@eventfrog.ch
DTSTAMP:20260419T164621Z
DTSTART:20260619T183000Z
DTEND:20260620T000000Z
SUMMARY:Alchemy of the Elements
DESCRIPTION:Acromio und Ars Volandi zeigen eine Show zur Alchemie der vier Elemente mit anschliessendem Barbetrieb und DJ Liserra.\n\nhttps://eventfrog.ch/de/p/musicals-shows/show/alchemy-of-the-elements-7451135214804321985.html
LOCATION:Mehrzweckhalle Lüsslingen
GEO:47.189336;7.503761
URL:https://eventfrog.ch/de/p/musicals-shows/show/alchemy-of-the-elements-7451135214804321985.html
END:VEVENT
END:VCALENDAR