BEGIN:VCALENDAR
VERSION:2.0
PRODID:EVENTFROG//EVENT//ICAL
BEGIN:VEVENT
UID:20260426T022731Z-7451176082932286830@eventfrog.ch
DTSTAMP:20260426T022731Z
DTSTART:20260618T180000Z
DTEND:20260618T200000Z
SUMMARY:PANDORAS DREAM  Weltmusik
DESCRIPTION:PANDORAS DREAM  Weltmusik\nTony Majdalani: Stimme, Perkussion\nAndreas Paragioudakis: Mandoline, Lyra, Laute, Stimme, Electronics\nFlorian King: Kontrabass, Electronics\n\nhttps://eventfrog.ch/de/p/konzerte/folk/pandoras-dream-weltmusik-7451176082932286830.html
LOCATION:Dimensione
GEO:47.499441;8.732479
URL:https://eventfrog.ch/de/p/konzerte/folk/pandoras-dream-weltmusik-7451176082932286830.html
END:VEVENT
END:VCALENDAR