BEGIN:VCALENDAR
VERSION:2.0
PRODID:EVENTFROG//EVENT//ICAL
BEGIN:VEVENT
UID:20260425T164031Z-7451180439438368844@eventfrog.ch
DTSTAMP:20260425T164031Z
DTSTART:20260430T170000Z
SUMMARY:Beer Pong Tournament
DESCRIPTION:Tournament\n\nhttps://eventfrog.ch/en/p/parties/student-party/beer-pong-tournament-7451180439438368844.html
LOCATION:Türmlibar
GEO:47.497941;8.728881
URL:https://eventfrog.ch/en/p/parties/student-party/beer-pong-tournament-7451180439438368844.html
END:VEVENT
END:VCALENDAR