BEGIN:VCALENDAR
VERSION:2.0
PRODID:EVENTFROG//EVENT//ICAL
BEGIN:VEVENT
UID:20260420T064718Z-7451182716760905353@eventfrog.ch
DTSTAMP:20260420T064718Z
DTSTART:20260612T170000Z
DTEND:20260612T190000Z
SUMMARY:circus & poetry
DESCRIPTION:Sigrid Grün, Julian Bellini und Michael Heiduk verbinden Lyrik und Artistik zu einem einzigartigen poetischen Erlebnis.\n\nhttps://eventfrog.ch/de/p/theater-buehne/theater/circus-poetry-7451182716760905353.html
LOCATION:Pepe Dome
GEO:48.111973;11.643343
URL:https://eventfrog.ch/de/p/theater-buehne/theater/circus-poetry-7451182716760905353.html
END:VEVENT
END:VCALENDAR