BEGIN:VCALENDAR
VERSION:2.0
PRODID:EVENTFROG//EVENT//ICAL
BEGIN:VEVENT
UID:20260419T155225Z-7451334985963835103@eventfrog.ch
DTSTAMP:20260419T155225Z
DTSTART:20260621T140000Z
DTEND:20260621T160000Z
SUMMARY:Klavierkonzert Natascha Majek
DESCRIPTION:Jubiläum 90 Jahre auf unserem Planeten Fritz Wassmann-Takigawa\nKlavierkonzert Natascha Majek\nSonntag, 21.Juni 2026\n16:00 (Einlass ab 15:30)\nRathauslaube, Schaffhausen\n\nhttps://eventfrog.ch/de/p/klassik-opern/klassik/klavierkonzert-natascha-majek-7451334985963835103.html
LOCATION:Rathauslaube/Kantonsratssaal
GEO:47.696053;8.634234
URL:https://eventfrog.ch/de/p/klassik-opern/klassik/klavierkonzert-natascha-majek-7451334985963835103.html
END:VEVENT
END:VCALENDAR